BEGIN:VCALENDAR
VERSION:2.0
PRODID:-//Imker in Nürnberg - ECPv6.8.3//NONSGML v1.0//EN
CALSCALE:GREGORIAN
METHOD:PUBLISH
X-ORIGINAL-URL:https://xn--imker-in-nrnberg-szb.de
X-WR-CALDESC:Veranstaltungen für Imker in Nürnberg
REFRESH-INTERVAL;VALUE=DURATION:PT1H
X-Robots-Tag:noindex
X-PUBLISHED-TTL:PT1H
BEGIN:VTIMEZONE
TZID:Europe/Berlin
BEGIN:DAYLIGHT
TZOFFSETFROM:+0100
TZOFFSETTO:+0200
TZNAME:CEST
DTSTART:20190331T010000
END:DAYLIGHT
BEGIN:STANDARD
TZOFFSETFROM:+0200
TZOFFSETTO:+0100
TZNAME:CET
DTSTART:20191027T010000
END:STANDARD
END:VTIMEZONE
BEGIN:VEVENT
DTSTART;TZID=Europe/Berlin:20190331T133000
DTEND;TZID=Europe/Berlin:20190331T160000
DTSTAMP:20260423T230144
CREATED:20190125T142112Z
LAST-MODIFIED:20190128T195908Z
UID:3667-1554039000-1554048000@xn--imker-in-nrnberg-szb.de
SUMMARY:Vortrag: Wachsverarbeitung beim Imker · Kreisimkertag Roth
DESCRIPTION:Am Sonntag\, 31. März 2019 findet im Rahmen des Kreisimkertags des LVBI in Roth ein Vortrag über die Wachsverarbeitung beim Imker statt. \nDer Themenkreis: \nWelche Arbeiten ergeben sich in der Imkerei im Laufe des Bienenjahres. Rähmchen ausschmelzen und weiter verarbeiten\, Wachshygiene\, Produkte aus Bienenwachs. \nWachsverarbeitung beim Imker © by Danielle Petschinka-Hegerfeld @ Frankenwachs\nDen Vortrag hält Danielle Petschinka-Hegerfeld (Bienensachverständige/Bienenfachwartin).
URL:https://xn--imker-in-nrnberg-szb.de/event/vortrag-wachsverarbeitung-beim-imker-beim-kreisimkertag-roth/
LOCATION:Der Schwan\, Am Marktplatz 7\, Schwanstetten\, Bayern\, 90596\, Deutschland
CATEGORIES:Extern,Imker-in-Nürnberg,Konferenz,Vortrag
ATTACH;FMTTYPE=image/jpeg:https://xn--imker-in-nrnberg-szb.de/wp-content/uploads/2018/04/DSC09560-1-Beitragsbild.jpg
END:VEVENT
END:VCALENDAR